BEGIN:VCALENDAR
VERSION:2.0
PRODID:-//Australian Poultry - Shows, Sales &amp; Auctions - ECPv4.7.3//NONSGML v1.0//EN
CALSCALE:GREGORIAN
METHOD:PUBLISH
X-WR-CALNAME:Australian Poultry - Shows, Sales &amp; Auctions
X-ORIGINAL-URL:http://www.australianpoultry.com.au
X-WR-CALDESC:Events for Australian Poultry - Shows, Sales &amp; Auctions
BEGIN:VEVENT
DTSTART;TZID=UTC+0:20180506T080000
DTEND;TZID=UTC+0:20180506T170000
DTSTAMP:20190301T015532
CREATED:20170826T041400Z
LAST-MODIFIED:20170826T042321Z
UID:393-1525593600-1525626000@www.australianpoultry.com.au
SUMMARY:Darling Downs Poultry & Pigeon Breeders Assoc.  - Spring Auction
DESCRIPTION:Toowoomba auction\, Sunday Sept 10. 320 lots on offer. Contact Julie Lack via email: julielack@internode.on.net for more information \nSept 2017 catalogue fixed  \n
URL:http://www.australianpoultry.com.au/event/darling-downs-poultry-pigeon-breeders-assoc-spring-auction-2018-05-06/
CATEGORIES:Auctions,Queensland
ATTACH;FMTTYPE=image/png:http://www.australianpoultry.com.au/wp-content/uploads/2017/08/Darling-Downs.png
END:VEVENT
END:VCALENDAR